BEGIN:VCALENDAR
VERSION:2.0
PRODID:-//Angel Fire RV Resort - Campground Northern New Mexico - ECPv6.15.14//NONSGML v1.0//EN
CALSCALE:GREGORIAN
METHOD:PUBLISH
X-WR-CALNAME:Angel Fire RV Resort - Campground Northern New Mexico
X-ORIGINAL-URL:https://angelfirervresort.com
X-WR-CALDESC:Events for Angel Fire RV Resort - Campground Northern New Mexico
REFRESH-INTERVAL;VALUE=DURATION:PT1H
X-Robots-Tag:noindex
X-PUBLISHED-TTL:PT1H
BEGIN:VTIMEZONE
TZID:UTC
BEGIN:STANDARD
TZOFFSETFROM:+0000
TZOFFSETTO:+0000
TZNAME:UTC
DTSTART:20160101T000000
END:STANDARD
END:VTIMEZONE
BEGIN:VEVENT
DTSTART;VALUE=DATE:20171124
DTEND;VALUE=DATE:20171125
DTSTAMP:20260425T044841
CREATED:20171124T002832Z
LAST-MODIFIED:20171124T002832Z
UID:1788-1511481600-1511567999@angelfirervresort.com
SUMMARY:Black Friday Shopping
DESCRIPTION:What to get your Black Friday fix but don’t know where to go? \nStop in the gatehouse for a list of shops that will be open for your shopping enjoyment.
URL:https://angelfirervresort.com/event/black-friday-shopping/
LOCATION:Gate House
ORGANIZER;CN="Kari Jaramillo":MAILTO:K
END:VEVENT
BEGIN:VEVENT
DTSTART;TZID=UTC:20170706T080000
DTEND;TZID=UTC:20170706T090000
DTSTAMP:20260425T044841
CREATED:20170705T214733Z
LAST-MODIFIED:20170705T214733Z
UID:946-1499328000-1499331600@angelfirervresort.com
SUMMARY:Morning Stroll
DESCRIPTION:Take a brisk morning walk with our staff around the RV Resort’s Santa Fe Trail. This .9 Mile track is a great way to take in the beauty and the morning air.
URL:https://angelfirervresort.com/event/morning-stroll/2017-07-06/
LOCATION:RV Resort Clubhouse\, NM\, United States
ORGANIZER;CN="Kari Jaramillo":MAILTO:K
GEO:34.5199402;-105.8700901
END:VEVENT
BEGIN:VEVENT
DTSTART;TZID=UTC:20170703T183000
DTEND;TZID=UTC:20170703T193000
DTSTAMP:20260425T044841
CREATED:20170705T213844Z
LAST-MODIFIED:20170705T214015Z
UID:920-1499106600-1499110200@angelfirervresort.com
SUMMARY:Candy Bar Bingo
DESCRIPTION:Join us for a fun spin on bingo. Use skittles to mark your cards\, winners get their choice of candy. \nThere is not cost and are no age requirements!
URL:https://angelfirervresort.com/event/candy-bar-bingo/2017-07-03/
LOCATION:RV Resort Clubhouse\, NM\, United States
ORGANIZER;CN="Kari Jaramillo":MAILTO:K
GEO:34.5199402;-105.8700901
END:VEVENT
END:VCALENDAR